BEGIN:VCALENDAR
VERSION:2.0
PRODID:-//동우문화재단 - ECPv5.8.1//NONSGML v1.0//EN
CALSCALE:GREGORIAN
METHOD:PUBLISH
X-WR-CALNAME:동우문화재단
X-ORIGINAL-URL:http://dongwoocf.or.kr
X-WR-CALDESC:Events for 동우문화재단
BEGIN:VTIMEZONE
TZID:Asia/Seoul
BEGIN:STANDARD
TZOFFSETFROM:+0900
TZOFFSETTO:+0900
TZNAME:KST
DTSTART:20240101T000000
END:STANDARD
END:VTIMEZONE
BEGIN:VEVENT
DTSTART;TZID=Asia/Seoul:20241122T193000
DTEND;TZID=Asia/Seoul:20241122T193000
DTSTAMP:20260420T021421
CREATED:20241105T043246Z
LAST-MODIFIED:20241121T042256Z
UID:3622-1732303800-1732303800@dongwoocf.or.kr
SUMMARY:세타노 디에고 초청 피아노 독주회
DESCRIPTION:세타노 디에고 초청 피아노 독주회
URL:http://dongwoocf.or.kr/event/%ec%84%b8%ed%83%80%eb%85%b8-%eb%94%94%ec%97%90%ea%b3%a0-%ec%b4%88%ec%b2%ad-%ed%94%bc%ec%95%84%eb%85%b8-%eb%8f%85%ec%a3%bc%ed%9a%8c/
END:VEVENT
END:VCALENDAR