BEGIN:VCALENDAR
VERSION:2.0
PRODID:-//동우문화재단 - ECPv5.8.1//NONSGML v1.0//EN
CALSCALE:GREGORIAN
METHOD:PUBLISH
X-WR-CALNAME:동우문화재단
X-ORIGINAL-URL:http://dongwoocf.or.kr
X-WR-CALDESC:Events for 동우문화재단
BEGIN:VTIMEZONE
TZID:Asia/Seoul
BEGIN:STANDARD
TZOFFSETFROM:+0900
TZOFFSETTO:+0900
TZNAME:KST
DTSTART:20240101T000000
END:STANDARD
END:VTIMEZONE
BEGIN:VEVENT
DTSTART;VALUE=DATE:20240126
DTEND;VALUE=DATE:20240127
DTSTAMP:20260420T154120
CREATED:20231218T074239Z
LAST-MODIFIED:20240124T080613Z
UID:3537-1706227200-1706313599@dongwoocf.or.kr
SUMMARY:일라이나이 피아노 트리오 리사이틀
DESCRIPTION:
URL:http://dongwoocf.or.kr/event/%ec%a0%95%ed%98%9c%ec%97%b0%ea%b5%90%ec%88%98-%ed%8a%b8%eb%a6%ac%ec%98%a4-%ec%97%b0%ec%a3%bc%ed%9a%8c/
END:VEVENT
END:VCALENDAR