BEGIN:VCALENDAR
VERSION:2.0
PRODID:-//동우문화재단 - ECPv5.8.1//NONSGML v1.0//EN
CALSCALE:GREGORIAN
METHOD:PUBLISH
X-WR-CALNAME:동우문화재단
X-ORIGINAL-URL:http://dongwoocf.or.kr
X-WR-CALDESC:Events for 동우문화재단
BEGIN:VTIMEZONE
TZID:Asia/Seoul
BEGIN:STANDARD
TZOFFSETFROM:+0900
TZOFFSETTO:+0900
TZNAME:KST
DTSTART:20230101T000000
END:STANDARD
END:VTIMEZONE
BEGIN:VEVENT
DTSTART;VALUE=DATE:20230406
DTEND;VALUE=DATE:20230408
DTSTAMP:20260423T094022
CREATED:20230403T021513Z
LAST-MODIFIED:20230403T021513Z
UID:3344-1680739200-1680911999@dongwoocf.or.kr
SUMMARY:교육청 강연회 (아트홀)
DESCRIPTION:교육청 강연회 (아트홀)
URL:http://dongwoocf.or.kr/event/%ea%b5%90%ec%9c%a1%ec%b2%ad-%ea%b0%95%ec%97%b0%ed%9a%8c-%ec%95%84%ed%8a%b8%ed%99%80/
END:VEVENT
END:VCALENDAR