BEGIN:VCALENDAR
VERSION:2.0
PRODID:-//동우문화재단 - ECPv5.8.1//NONSGML v1.0//EN
CALSCALE:GREGORIAN
METHOD:PUBLISH
X-WR-CALNAME:동우문화재단
X-ORIGINAL-URL:http://dongwoocf.or.kr
X-WR-CALDESC:Events for 동우문화재단
BEGIN:VTIMEZONE
TZID:Asia/Seoul
BEGIN:STANDARD
TZOFFSETFROM:+0900
TZOFFSETTO:+0900
TZNAME:KST
DTSTART:20220101T000000
END:STANDARD
END:VTIMEZONE
BEGIN:VEVENT
DTSTART;VALUE=DATE:20221220
DTEND;VALUE=DATE:20221225
DTSTAMP:20260423T154130
CREATED:20221104T040249Z
LAST-MODIFIED:20221104T040249Z
UID:3292-1671494400-1671926399@dongwoocf.or.kr
SUMMARY:동우문화재단 기획연주회 (아트홀)
DESCRIPTION:동우문화재단 기획연주회 (아트홀)
URL:http://dongwoocf.or.kr/event/%eb%8f%99%ec%9a%b0%eb%ac%b8%ed%99%94%ec%9e%ac%eb%8b%a8-%ea%b8%b0%ed%9a%8d%ec%97%b0%ec%a3%bc%ed%9a%8c-%ec%95%84%ed%8a%b8%ed%99%80/
END:VEVENT
END:VCALENDAR