BEGIN:VCALENDAR
VERSION:2.0
PRODID:-//동우문화재단 - ECPv5.8.1//NONSGML v1.0//EN
CALSCALE:GREGORIAN
METHOD:PUBLISH
X-WR-CALNAME:동우문화재단
X-ORIGINAL-URL:http://dongwoocf.or.kr
X-WR-CALDESC:Events for 동우문화재단
BEGIN:VTIMEZONE
TZID:Asia/Seoul
BEGIN:STANDARD
TZOFFSETFROM:+0900
TZOFFSETTO:+0900
TZNAME:KST
DTSTART:20220101T000000
END:STANDARD
END:VTIMEZONE
BEGIN:VEVENT
DTSTART;VALUE=DATE:20221217
DTEND;VALUE=DATE:20221218
DTSTAMP:20260423T154036
CREATED:20220829T030812Z
LAST-MODIFIED:20221123T025320Z
UID:3238-1671235200-1671321599@dongwoocf.or.kr
SUMMARY:조이플루트 정기연주회 (아트홀)
DESCRIPTION:조이플루트 정기연주회 (아트홀)
URL:http://dongwoocf.or.kr/event/%ec%a1%b0%ec%9d%b4%ed%94%8c%eb%a3%a8%ed%8a%b8-%ec%a0%95%ea%b8%b0%ec%97%b0%ec%a3%bc%ed%9a%8c-%ec%95%84%ed%8a%b8%ed%99%80/
END:VEVENT
END:VCALENDAR