BEGIN:VCALENDAR
VERSION:2.0
PRODID:-//동우문화재단 - ECPv5.8.1//NONSGML v1.0//EN
CALSCALE:GREGORIAN
METHOD:PUBLISH
X-WR-CALNAME:동우문화재단
X-ORIGINAL-URL:http://dongwoocf.or.kr
X-WR-CALDESC:Events for 동우문화재단
BEGIN:VTIMEZONE
TZID:Asia/Seoul
BEGIN:STANDARD
TZOFFSETFROM:+0900
TZOFFSETTO:+0900
TZNAME:KST
DTSTART:20220101T000000
END:STANDARD
END:VTIMEZONE
BEGIN:VEVENT
DTSTART;VALUE=DATE:20221214
DTEND;VALUE=DATE:20221215
DTSTAMP:20260423T154131
CREATED:20221104T040220Z
LAST-MODIFIED:20221104T040220Z
UID:3290-1670976000-1671062399@dongwoocf.or.kr
SUMMARY:정혜연교수 독주회 (아트홀)
DESCRIPTION:정혜연교수 독주회 (아트홀)
URL:http://dongwoocf.or.kr/event/%ec%a0%95%ed%98%9c%ec%97%b0%ea%b5%90%ec%88%98-%eb%8f%85%ec%a3%bc%ed%9a%8c-%ec%95%84%ed%8a%b8%ed%99%80/
END:VEVENT
END:VCALENDAR