BEGIN:VCALENDAR
VERSION:2.0
PRODID:-//동우문화재단 - ECPv5.8.1//NONSGML v1.0//EN
CALSCALE:GREGORIAN
METHOD:PUBLISH
X-WR-CALNAME:동우문화재단
X-ORIGINAL-URL:http://dongwoocf.or.kr
X-WR-CALDESC:Events for 동우문화재단
BEGIN:VTIMEZONE
TZID:Asia/Seoul
BEGIN:STANDARD
TZOFFSETFROM:+0900
TZOFFSETTO:+0900
TZNAME:KST
DTSTART:20220101T000000
END:STANDARD
END:VTIMEZONE
BEGIN:VEVENT
DTSTART;VALUE=DATE:20221201
DTEND;VALUE=DATE:20221202
DTSTAMP:20260423T154042
CREATED:20221006T041334Z
LAST-MODIFIED:20221006T041334Z
UID:3267-1669852800-1669939199@dongwoocf.or.kr
SUMMARY:군산신문사 송년의 밤 (아트홀)
DESCRIPTION:군산신문사 송년의 밤 (아트홀)
URL:http://dongwoocf.or.kr/event/%ea%b5%b0%ec%82%b0%ec%8b%a0%eb%ac%b8%ec%82%ac-%ec%86%a1%eb%85%84%ec%9d%98-%eb%b0%a4-%ec%95%84%ed%8a%b8%ed%99%80/
END:VEVENT
END:VCALENDAR