BEGIN:VCALENDAR
VERSION:2.0
PRODID:-//동우문화재단 - ECPv5.8.1//NONSGML v1.0//EN
CALSCALE:GREGORIAN
METHOD:PUBLISH
X-WR-CALNAME:동우문화재단
X-ORIGINAL-URL:http://dongwoocf.or.kr
X-WR-CALDESC:Events for 동우문화재단
BEGIN:VTIMEZONE
TZID:Asia/Seoul
BEGIN:STANDARD
TZOFFSETFROM:+0900
TZOFFSETTO:+0900
TZNAME:KST
DTSTART:20220101T000000
END:STANDARD
END:VTIMEZONE
BEGIN:VEVENT
DTSTART;VALUE=DATE:20221118
DTEND;VALUE=DATE:20221119
DTSTAMP:20260423T171026
CREATED:20220829T030651Z
LAST-MODIFIED:20220829T030651Z
UID:3232-1668729600-1668815999@dongwoocf.or.kr
SUMMARY:전북작곡가협회 음악회 (아트홀)
DESCRIPTION:전북작곡가협회 음악회 (아트홀)
URL:http://dongwoocf.or.kr/event/%ec%a0%84%eb%b6%81%ec%9e%91%ea%b3%a1%ea%b0%80%ed%98%91%ed%9a%8c-%ec%9d%8c%ec%95%85%ed%9a%8c-%ec%95%84%ed%8a%b8%ed%99%80/
END:VEVENT
END:VCALENDAR