BEGIN:VCALENDAR
VERSION:2.0
PRODID:-//동우문화재단 - ECPv5.8.1//NONSGML v1.0//EN
CALSCALE:GREGORIAN
METHOD:PUBLISH
X-WR-CALNAME:동우문화재단
X-ORIGINAL-URL:http://dongwoocf.or.kr
X-WR-CALDESC:Events for 동우문화재단
BEGIN:VTIMEZONE
TZID:Asia/Seoul
BEGIN:STANDARD
TZOFFSETFROM:+0900
TZOFFSETTO:+0900
TZNAME:KST
DTSTART:20220101T000000
END:STANDARD
END:VTIMEZONE
BEGIN:VEVENT
DTSTART;VALUE=DATE:20221105
DTEND;VALUE=DATE:20221106
DTSTAMP:20260423T171004
CREATED:20220708T014013Z
LAST-MODIFIED:20220708T014013Z
UID:3167-1667606400-1667692799@dongwoocf.or.kr
SUMMARY:김설아 바이올린 독주회 (아트홀)
DESCRIPTION:김설아 바이올린 독주회 (아트홀)
URL:http://dongwoocf.or.kr/event/%ea%b9%80%ec%84%a4%ec%95%84-%eb%b0%94%ec%9d%b4%ec%98%ac%eb%a6%b0-%eb%8f%85%ec%a3%bc%ed%9a%8c-%ec%95%84%ed%8a%b8%ed%99%80/
END:VEVENT
END:VCALENDAR