BEGIN:VCALENDAR
VERSION:2.0
PRODID:-//동우문화재단 - ECPv5.8.1//NONSGML v1.0//EN
CALSCALE:GREGORIAN
METHOD:PUBLISH
X-WR-CALNAME:동우문화재단
X-ORIGINAL-URL:http://dongwoocf.or.kr
X-WR-CALDESC:Events for 동우문화재단
BEGIN:VTIMEZONE
TZID:Asia/Seoul
BEGIN:STANDARD
TZOFFSETFROM:+0900
TZOFFSETTO:+0900
TZNAME:KST
DTSTART:20220101T000000
END:STANDARD
END:VTIMEZONE
BEGIN:VEVENT
DTSTART;VALUE=DATE:20221028
DTEND;VALUE=DATE:20221029
DTSTAMP:20260423T182644
CREATED:20220829T030555Z
LAST-MODIFIED:20220829T030555Z
UID:3228-1666915200-1667001599@dongwoocf.or.kr
SUMMARY:군산문화도시센타 강연회(아트홀)
DESCRIPTION:군산문화도시센타 강연회(아트홀)
URL:http://dongwoocf.or.kr/event/%ea%b5%b0%ec%82%b0%eb%ac%b8%ed%99%94%eb%8f%84%ec%8b%9c%ec%84%bc%ed%83%80-%ea%b0%95%ec%97%b0%ed%9a%8c%ec%95%84%ed%8a%b8%ed%99%80/
END:VEVENT
END:VCALENDAR