BEGIN:VCALENDAR
VERSION:2.0
PRODID:-//동우문화재단 - ECPv5.8.1//NONSGML v1.0//EN
CALSCALE:GREGORIAN
METHOD:PUBLISH
X-WR-CALNAME:동우문화재단
X-ORIGINAL-URL:http://dongwoocf.or.kr
X-WR-CALDESC:Events for 동우문화재단
BEGIN:VTIMEZONE
TZID:Asia/Seoul
BEGIN:STANDARD
TZOFFSETFROM:+0900
TZOFFSETTO:+0900
TZNAME:KST
DTSTART:20220101T000000
END:STANDARD
END:VTIMEZONE
BEGIN:VEVENT
DTSTART;VALUE=DATE:20221021
DTEND;VALUE=DATE:20221022
DTSTAMP:20260423T182553
CREATED:20220708T014050Z
LAST-MODIFIED:20220708T014050Z
UID:3169-1666310400-1666396799@dongwoocf.or.kr
SUMMARY:최명훈교수 리사이틀 (아트홀)
DESCRIPTION:최명훈교수 리사이틀 (아트홀)
URL:http://dongwoocf.or.kr/event/%ec%b5%9c%eb%aa%85%ed%9b%88%ea%b5%90%ec%88%98-%eb%a6%ac%ec%82%ac%ec%9d%b4%ed%8b%80-%ec%95%84%ed%8a%b8%ed%99%80/
END:VEVENT
END:VCALENDAR