BEGIN:VCALENDAR
VERSION:2.0
PRODID:-//동우문화재단 - ECPv5.8.1//NONSGML v1.0//EN
CALSCALE:GREGORIAN
METHOD:PUBLISH
X-WR-CALNAME:동우문화재단
X-ORIGINAL-URL:http://dongwoocf.or.kr
X-WR-CALDESC:Events for 동우문화재단
BEGIN:VTIMEZONE
TZID:Asia/Seoul
BEGIN:STANDARD
TZOFFSETFROM:+0900
TZOFFSETTO:+0900
TZNAME:KST
DTSTART:20220101T000000
END:STANDARD
END:VTIMEZONE
BEGIN:VEVENT
DTSTART;VALUE=DATE:20220917
DTEND;VALUE=DATE:20220918
DTSTAMP:20260423T194948
CREATED:20220708T014215Z
LAST-MODIFIED:20220708T014215Z
UID:3175-1663372800-1663459199@dongwoocf.or.kr
SUMMARY:소담소리아트 공연 (아트홀)
DESCRIPTION:소담소리아트 공연 (아트홀)
URL:http://dongwoocf.or.kr/event/%ec%86%8c%eb%8b%b4%ec%86%8c%eb%a6%ac%ec%95%84%ed%8a%b8-%ea%b3%b5%ec%97%b0-%ec%95%84%ed%8a%b8%ed%99%80/
END:VEVENT
END:VCALENDAR