BEGIN:VCALENDAR
VERSION:2.0
PRODID:-//동우문화재단 - ECPv5.8.1//NONSGML v1.0//EN
CALSCALE:GREGORIAN
METHOD:PUBLISH
X-WR-CALNAME:동우문화재단
X-ORIGINAL-URL:http://dongwoocf.or.kr
X-WR-CALDESC:Events for 동우문화재단
BEGIN:VTIMEZONE
TZID:Asia/Seoul
BEGIN:STANDARD
TZOFFSETFROM:+0900
TZOFFSETTO:+0900
TZNAME:KST
DTSTART:20220101T000000
END:STANDARD
END:VTIMEZONE
BEGIN:VEVENT
DTSTART;VALUE=DATE:20220523
DTEND;VALUE=DATE:20220528
DTSTAMP:20260424T010745
CREATED:20220322T065112Z
LAST-MODIFIED:20220322T065112Z
UID:3135-1653264000-1653695999@dongwoocf.or.kr
SUMMARY:공연장 정기안전검사 (동우문화재단)
DESCRIPTION:공연장 정기안전검사 (동우문화재단)
URL:http://dongwoocf.or.kr/event/%ea%b3%b5%ec%97%b0%ec%9e%a5-%ec%a0%95%ea%b8%b0%ec%95%88%ec%a0%84%ea%b2%80%ec%82%ac-%eb%8f%99%ec%9a%b0%eb%ac%b8%ed%99%94%ec%9e%ac%eb%8b%a8/
END:VEVENT
END:VCALENDAR