BEGIN:VCALENDAR
VERSION:2.0
PRODID:-//동우문화재단 - ECPv5.8.1//NONSGML v1.0//EN
CALSCALE:GREGORIAN
METHOD:PUBLISH
X-WR-CALNAME:동우문화재단
X-ORIGINAL-URL:http://dongwoocf.or.kr
X-WR-CALDESC:Events for 동우문화재단
BEGIN:VTIMEZONE
TZID:Asia/Seoul
BEGIN:STANDARD
TZOFFSETFROM:+0900
TZOFFSETTO:+0900
TZNAME:KST
DTSTART:20220101T000000
END:STANDARD
END:VTIMEZONE
BEGIN:VEVENT
DTSTART;VALUE=DATE:20220104
DTEND;VALUE=DATE:20220105
DTSTAMP:20260424T065147
CREATED:20220322T064701Z
LAST-MODIFIED:20220322T064701Z
UID:3123-1641254400-1641340799@dongwoocf.or.kr
SUMMARY:프리모챔버앙상블 정기연주회 (아트홀)
DESCRIPTION:프리모챔버앙상블 정기연주회 (아트홀)
URL:http://dongwoocf.or.kr/event/%ed%94%84%eb%a6%ac%eb%aa%a8%ec%b1%94%eb%b2%84%ec%95%99%ec%83%81%eb%b8%94-%ec%a0%95%ea%b8%b0%ec%97%b0%ec%a3%bc%ed%9a%8c-%ec%95%84%ed%8a%b8%ed%99%80/
END:VEVENT
END:VCALENDAR