BEGIN:VCALENDAR
VERSION:2.0
PRODID:-//동우문화재단 - ECPv5.8.1//NONSGML v1.0//EN
CALSCALE:GREGORIAN
METHOD:PUBLISH
X-WR-CALNAME:동우문화재단
X-ORIGINAL-URL:http://dongwoocf.or.kr
X-WR-CALDESC:Events for 동우문화재단
BEGIN:VTIMEZONE
TZID:Asia/Seoul
BEGIN:STANDARD
TZOFFSETFROM:+0900
TZOFFSETTO:+0900
TZNAME:KST
DTSTART:20210101T000000
END:STANDARD
END:VTIMEZONE
BEGIN:VEVENT
DTSTART;TZID=Asia/Seoul:20211210T193000
DTEND;TZID=Asia/Seoul:20211210T213000
DTSTAMP:20260424T080131
CREATED:20211207T080112Z
LAST-MODIFIED:20211207T080112Z
UID:3096-1639164600-1639171800@dongwoocf.or.kr
SUMMARY:소프라노 박지연 독창회 (아트홀)
DESCRIPTION:소프라노 박지연 독창회 (아트홀)
URL:http://dongwoocf.or.kr/event/%ec%86%8c%ed%94%84%eb%9d%bc%eb%85%b8-%eb%b0%95%ec%a7%80%ec%97%b0-%eb%8f%85%ec%b0%bd%ed%9a%8c-%ec%95%84%ed%8a%b8%ed%99%80/
END:VEVENT
END:VCALENDAR