BEGIN:VCALENDAR
VERSION:2.0
PRODID:-//동우문화재단 - ECPv5.8.1//NONSGML v1.0//EN
CALSCALE:GREGORIAN
METHOD:PUBLISH
X-WR-CALNAME:동우문화재단
X-ORIGINAL-URL:http://dongwoocf.or.kr
X-WR-CALDESC:Events for 동우문화재단
BEGIN:VTIMEZONE
TZID:Asia/Seoul
BEGIN:STANDARD
TZOFFSETFROM:+0900
TZOFFSETTO:+0900
TZNAME:KST
DTSTART:20210101T000000
END:STANDARD
END:VTIMEZONE
BEGIN:VEVENT
DTSTART;TZID=Asia/Seoul:20210731T190000
DTEND;TZID=Asia/Seoul:20210731T210000
DTSTAMP:20260424T140451
CREATED:20210722T104857Z
LAST-MODIFIED:20210722T104857Z
UID:3035-1627758000-1627765200@dongwoocf.or.kr
SUMMARY:온트리오 세번째 정기연주회(아트홀)
DESCRIPTION:온트리오 세번째 정기연주회(아트홀)7월 31      19:00 – 21:00 오후
URL:http://dongwoocf.or.kr/event/%ec%98%a8%ed%8a%b8%eb%a6%ac%ec%98%a4-%ec%84%b8%eb%b2%88%ec%a7%b8-%ec%a0%95%ea%b8%b0%ec%97%b0%ec%a3%bc%ed%9a%8c%ec%95%84%ed%8a%b8%ed%99%80/
ATTACH;FMTTYPE=image/jpeg:http://dongwoocf.or.kr/wp-content/uploads/2021/07/온트리오-main.jpg
END:VEVENT
END:VCALENDAR