BEGIN:VCALENDAR
VERSION:2.0
PRODID:-//동우문화재단 - ECPv5.8.1//NONSGML v1.0//EN
CALSCALE:GREGORIAN
METHOD:PUBLISH
X-WR-CALNAME:동우문화재단
X-ORIGINAL-URL:http://dongwoocf.or.kr
X-WR-CALDESC:Events for 동우문화재단
BEGIN:VTIMEZONE
TZID:Asia/Seoul
BEGIN:STANDARD
TZOFFSETFROM:+0900
TZOFFSETTO:+0900
TZNAME:KST
DTSTART:20210101T000000
END:STANDARD
END:VTIMEZONE
BEGIN:VEVENT
DTSTART;TZID=Asia/Seoul:20210429T193000
DTEND;TZID=Asia/Seoul:20210429T210000
DTSTAMP:20260424T161150
CREATED:20210426T095945Z
LAST-MODIFIED:20210426T095945Z
UID:3026-1619724600-1619730000@dongwoocf.or.kr
SUMMARY:테너 이재식 독창회 (아트홀)
DESCRIPTION:테너 이재식 독창회 (아트홀)4월 29 @ 7:30 오후 – 9:00 오후
URL:http://dongwoocf.or.kr/event/%ed%85%8c%eb%84%88-%ec%9d%b4%ec%9e%ac%ec%8b%9d-%eb%8f%85%ec%b0%bd%ed%9a%8c-%ec%95%84%ed%8a%b8%ed%99%80/
END:VEVENT
END:VCALENDAR