BEGIN:VCALENDAR
VERSION:2.0
PRODID:-//동우문화재단 - ECPv5.8.1//NONSGML v1.0//EN
CALSCALE:GREGORIAN
METHOD:PUBLISH
X-WR-CALNAME:동우문화재단
X-ORIGINAL-URL:http://dongwoocf.or.kr
X-WR-CALDESC:Events for 동우문화재단
BEGIN:VTIMEZONE
TZID:Asia/Seoul
BEGIN:STANDARD
TZOFFSETFROM:+0900
TZOFFSETTO:+0900
TZNAME:KST
DTSTART:20200101T000000
END:STANDARD
END:VTIMEZONE
BEGIN:VEVENT
DTSTART;TZID=Asia/Seoul:20201217T190000
DTEND;TZID=Asia/Seoul:20201217T210000
DTSTAMP:20260424T223858
CREATED:20201124T032803Z
LAST-MODIFIED:20201124T032803Z
UID:2974-1608231600-1608238800@dongwoocf.or.kr
SUMMARY:소담소리아트/수궁가 (아트홀)
DESCRIPTION:소담소리아트/수궁가 2020.12.17 / PM 07:00 / 아트홀
URL:http://dongwoocf.or.kr/event/%ec%86%8c%eb%8b%b4%ec%86%8c%eb%a6%ac%ec%95%84%ed%8a%b8-%ec%88%98%ea%b6%81%ea%b0%80-%ec%95%84%ed%8a%b8%ed%99%80/
END:VEVENT
END:VCALENDAR