BEGIN:VCALENDAR
VERSION:2.0
PRODID:-//동우문화재단 - ECPv5.8.1//NONSGML v1.0//EN
CALSCALE:GREGORIAN
METHOD:PUBLISH
X-WR-CALNAME:동우문화재단
X-ORIGINAL-URL:http://dongwoocf.or.kr
X-WR-CALDESC:Events for 동우문화재단
BEGIN:VTIMEZONE
TZID:Asia/Seoul
BEGIN:STANDARD
TZOFFSETFROM:+0900
TZOFFSETTO:+0900
TZNAME:KST
DTSTART:20200101T000000
END:STANDARD
END:VTIMEZONE
BEGIN:VEVENT
DTSTART;TZID=Asia/Seoul:20201119T190000
DTEND;TZID=Asia/Seoul:20201119T210000
DTSTAMP:20260425T001802
CREATED:20201015T032414Z
LAST-MODIFIED:20201015T032414Z
UID:2907-1605812400-1605819600@dongwoocf.or.kr
SUMMARY:온트리오 정기연주회 (아트홀)
DESCRIPTION:온트리오 정기연주회 (아트홀) 2020.11.19 / PM 07:00 / 아트홀
URL:http://dongwoocf.or.kr/event/%ec%98%a8%ed%8a%b8%eb%a6%ac%ec%98%a4-%ec%a0%95%ea%b8%b0%ec%97%b0%ec%a3%bc%ed%9a%8c-%ec%95%84%ed%8a%b8%ed%99%80-2/
END:VEVENT
END:VCALENDAR