BEGIN:VCALENDAR
VERSION:2.0
PRODID:-//동우문화재단 - ECPv5.8.1//NONSGML v1.0//EN
CALSCALE:GREGORIAN
METHOD:PUBLISH
X-WR-CALNAME:동우문화재단
X-ORIGINAL-URL:http://dongwoocf.or.kr
X-WR-CALDESC:Events for 동우문화재단
BEGIN:VTIMEZONE
TZID:Asia/Seoul
BEGIN:STANDARD
TZOFFSETFROM:+0900
TZOFFSETTO:+0900
TZNAME:KST
DTSTART:20200101T000000
END:STANDARD
END:VTIMEZONE
BEGIN:VEVENT
DTSTART;TZID=Asia/Seoul:20201117T190000
DTEND;TZID=Asia/Seoul:20201117T210000
DTSTAMP:20260425T000253
CREATED:20200702T225826Z
LAST-MODIFIED:20200702T225826Z
UID:2829-1605639600-1605646800@dongwoocf.or.kr
SUMMARY:김철영 독주회 (아트홀)
DESCRIPTION:김철영 독주회 2020.11.17 / PM 07:00 / 아트홀
URL:http://dongwoocf.or.kr/event/%ea%b9%80%ec%b2%a0%ec%98%81-%eb%8f%85%ec%a3%bc%ed%9a%8c-%ec%95%84%ed%8a%b8%ed%99%80-2/
END:VEVENT
END:VCALENDAR