BEGIN:VCALENDAR
VERSION:2.0
PRODID:-//동우문화재단 - ECPv5.8.1//NONSGML v1.0//EN
CALSCALE:GREGORIAN
METHOD:PUBLISH
X-WR-CALNAME:동우문화재단
X-ORIGINAL-URL:http://dongwoocf.or.kr
X-WR-CALDESC:Events for 동우문화재단
BEGIN:VTIMEZONE
TZID:Asia/Seoul
BEGIN:STANDARD
TZOFFSETFROM:+0900
TZOFFSETTO:+0900
TZNAME:KST
DTSTART:20200101T000000
END:STANDARD
END:VTIMEZONE
BEGIN:VEVENT
DTSTART;TZID=Asia/Seoul:20201111T193000
DTEND;TZID=Asia/Seoul:20201111T213000
DTSTAMP:20260425T000303
CREATED:20200702T225645Z
LAST-MODIFIED:20201030T122410Z
UID:2827-1605123000-1605130200@dongwoocf.or.kr
SUMMARY:군산대학교 교수합창단 정기연주회 (아트홀)
DESCRIPTION:군산대학교 교수합창단 정기연주회 2020.11.11 / PM 07:30 / 아트홀
URL:http://dongwoocf.or.kr/event/%ec%98%a4%ed%8e%98%eb%9d%bc%ec%b0%bd%ec%9e%91%ea%b3%a1-%eb%b0%9c%ed%91%9c%ed%9a%8c-%ec%95%84%ed%8a%b8%ed%99%80/
ATTACH;FMTTYPE=image/jpeg:http://dongwoocf.or.kr/wp-content/uploads/2020/10/11.11-main.jpg
END:VEVENT
END:VCALENDAR