BEGIN:VCALENDAR
VERSION:2.0
PRODID:-//동우문화재단 - ECPv5.8.1//NONSGML v1.0//EN
CALSCALE:GREGORIAN
METHOD:PUBLISH
X-WR-CALNAME:동우문화재단
X-ORIGINAL-URL:http://dongwoocf.or.kr
X-WR-CALDESC:Events for 동우문화재단
BEGIN:VTIMEZONE
TZID:Asia/Seoul
BEGIN:STANDARD
TZOFFSETFROM:+0900
TZOFFSETTO:+0900
TZNAME:KST
DTSTART:20200101T000000
END:STANDARD
END:VTIMEZONE
BEGIN:VEVENT
DTSTART;TZID=Asia/Seoul:20201107T190000
DTEND;TZID=Asia/Seoul:20201107T210000
DTSTAMP:20260425T001745
CREATED:20200702T225602Z
LAST-MODIFIED:20200702T225602Z
UID:2825-1604775600-1604782800@dongwoocf.or.kr
SUMMARY:홍일표교수 제자들 피아노 연주회 (아트홀)
DESCRIPTION:홍일표교수 제자들 피아노 연주회 2020.11.07 / PM 07:00 / 아트홀
URL:http://dongwoocf.or.kr/event/%ed%99%8d%ec%9d%bc%ed%91%9c%ea%b5%90%ec%88%98-%ec%a0%9c%ec%9e%90%eb%93%a4-%ed%94%bc%ec%95%84%eb%85%b8-%ec%97%b0%ec%a3%bc%ed%9a%8c-%ec%95%84%ed%8a%b8%ed%99%80/
END:VEVENT
END:VCALENDAR