BEGIN:VCALENDAR
VERSION:2.0
PRODID:-//동우문화재단 - ECPv5.8.1//NONSGML v1.0//EN
CALSCALE:GREGORIAN
METHOD:PUBLISH
X-WR-CALNAME:동우문화재단
X-ORIGINAL-URL:http://dongwoocf.or.kr
X-WR-CALDESC:Events for 동우문화재단
BEGIN:VTIMEZONE
TZID:Asia/Seoul
BEGIN:STANDARD
TZOFFSETFROM:+0900
TZOFFSETTO:+0900
TZNAME:KST
DTSTART:20200101T000000
END:STANDARD
END:VTIMEZONE
BEGIN:VEVENT
DTSTART;TZID=Asia/Seoul:20201103T193000
DTEND;TZID=Asia/Seoul:20201103T213000
DTSTAMP:20260425T000319
CREATED:20200702T225336Z
LAST-MODIFIED:20201026T000005Z
UID:2823-1604431800-1604439000@dongwoocf.or.kr
SUMMARY:정혜연교수 제자 연주회 (아트홀)
DESCRIPTION:정혜연교수 제자 연주회 2020.11.03 / PM 07:30 / 아트홀
URL:http://dongwoocf.or.kr/event/%ec%a0%95%ed%98%9c%ec%97%b0%ea%b5%90%ec%88%98-%ec%a0%9c%ec%9e%90-%ec%97%b0%ec%a3%bc%ed%9a%8c-%ec%95%84%ed%8a%b8%ed%99%80/
ATTACH;FMTTYPE=image/jpeg:http://dongwoocf.or.kr/wp-content/uploads/2020/07/11.03-포스터.jpg
END:VEVENT
END:VCALENDAR