BEGIN:VCALENDAR
VERSION:2.0
PRODID:-//동우문화재단 - ECPv5.8.1//NONSGML v1.0//EN
CALSCALE:GREGORIAN
METHOD:PUBLISH
X-WR-CALNAME:동우문화재단
X-ORIGINAL-URL:http://dongwoocf.or.kr
X-WR-CALDESC:Events for 동우문화재단
BEGIN:VTIMEZONE
TZID:Asia/Seoul
BEGIN:STANDARD
TZOFFSETFROM:+0900
TZOFFSETTO:+0900
TZNAME:KST
DTSTART:20200101T000000
END:STANDARD
END:VTIMEZONE
BEGIN:VEVENT
DTSTART;TZID=Asia/Seoul:20201031T193000
DTEND;TZID=Asia/Seoul:20201031T213000
DTSTAMP:20260425T012336
CREATED:20200804T031512Z
LAST-MODIFIED:20201029T074649Z
UID:2857-1604172600-1604179800@dongwoocf.or.kr
SUMMARY:김명신 독무회 (아트홀)
DESCRIPTION:김명신 독무회 2020.10.31 / PM 07:30 / 아트홀  
URL:http://dongwoocf.or.kr/event/%ea%b9%80%eb%aa%85%ec%8b%a0-%eb%8f%85%eb%ac%b4%ed%9a%8c-%ec%95%84%ed%8a%b8%ed%99%80/
ATTACH;FMTTYPE=image/jpeg:http://dongwoocf.or.kr/wp-content/uploads/2020/10/KakaoTalk_20201027_090424747.jpg
END:VEVENT
END:VCALENDAR