BEGIN:VCALENDAR
VERSION:2.0
PRODID:-//동우문화재단 - ECPv5.8.1//NONSGML v1.0//EN
CALSCALE:GREGORIAN
METHOD:PUBLISH
X-WR-CALNAME:동우문화재단
X-ORIGINAL-URL:http://dongwoocf.or.kr
X-WR-CALDESC:Events for 동우문화재단
BEGIN:VTIMEZONE
TZID:Asia/Seoul
BEGIN:STANDARD
TZOFFSETFROM:+0900
TZOFFSETTO:+0900
TZNAME:KST
DTSTART:20200101T000000
END:STANDARD
END:VTIMEZONE
BEGIN:VEVENT
DTSTART;TZID=Asia/Seoul:20201030T090000
DTEND;TZID=Asia/Seoul:20201030T170000
DTSTAMP:20260425T012332
CREATED:20201015T032150Z
LAST-MODIFIED:20201015T032528Z
UID:2905-1604048400-1604077200@dongwoocf.or.kr
SUMMARY:군산교육청연수회 (아트홀)
DESCRIPTION:군산교육청연수회 (아트홀)10월 30 @ 9:00 오전
URL:http://dongwoocf.or.kr/event/%ea%b5%b0%ec%82%b0%ea%b5%90%ec%9c%a1%ec%b2%ad%ec%97%b0%ec%88%98%ed%9a%8c-%ec%95%84%ed%8a%b8%ed%99%80/
END:VEVENT
END:VCALENDAR