BEGIN:VCALENDAR
VERSION:2.0
PRODID:-//동우문화재단 - ECPv5.8.1//NONSGML v1.0//EN
CALSCALE:GREGORIAN
METHOD:PUBLISH
X-WR-CALNAME:동우문화재단
X-ORIGINAL-URL:http://dongwoocf.or.kr
X-WR-CALDESC:Events for 동우문화재단
BEGIN:VTIMEZONE
TZID:Asia/Seoul
BEGIN:STANDARD
TZOFFSETFROM:+0900
TZOFFSETTO:+0900
TZNAME:KST
DTSTART:20200101T000000
END:STANDARD
END:VTIMEZONE
BEGIN:VEVENT
DTSTART;TZID=Asia/Seoul:20201016T090000
DTEND;TZID=Asia/Seoul:20201016T170000
DTSTAMP:20260425T012336
CREATED:20201015T032021Z
LAST-MODIFIED:20201015T032021Z
UID:2903-1602838800-1602867600@dongwoocf.or.kr
SUMMARY:캠틱기술원강연회 (아트홀)
DESCRIPTION:캠틱기술원강연회 (아트홀)10월 16 @ 9:00 오전
URL:http://dongwoocf.or.kr/event/%ec%ba%a0%ed%8b%b1%ea%b8%b0%ec%88%a0%ec%9b%90%ea%b0%95%ec%97%b0%ed%9a%8c-%ec%95%84%ed%8a%b8%ed%99%80/
END:VEVENT
END:VCALENDAR