BEGIN:VCALENDAR
VERSION:2.0
PRODID:-//동우문화재단 - ECPv5.8.1//NONSGML v1.0//EN
CALSCALE:GREGORIAN
METHOD:PUBLISH
X-WR-CALNAME:동우문화재단
X-ORIGINAL-URL:http://dongwoocf.or.kr
X-WR-CALDESC:Events for 동우문화재단
BEGIN:VTIMEZONE
TZID:Asia/Seoul
BEGIN:STANDARD
TZOFFSETFROM:+0900
TZOFFSETTO:+0900
TZNAME:KST
DTSTART:20200101T000000
END:STANDARD
END:VTIMEZONE
BEGIN:VEVENT
DTSTART;TZID=Asia/Seoul:20200926T190000
DTEND;TZID=Asia/Seoul:20200926T210000
DTSTAMP:20260425T024216
CREATED:20200804T031106Z
LAST-MODIFIED:20200804T031114Z
UID:2849-1601146800-1601154000@dongwoocf.or.kr
SUMMARY:범죄예방 위원회 강연 (아트홀)
DESCRIPTION:범죄예방 위원회 강연 2020.09.26 / PM 07:00 / 아트홀
URL:http://dongwoocf.or.kr/event/%eb%b2%94%ec%a3%84%ec%98%88%eb%b0%a9-%ec%9c%84%ec%9b%90%ed%9a%8c-%ea%b0%95%ec%97%b0-%ec%95%84%ed%8a%b8%ed%99%80/
END:VEVENT
END:VCALENDAR