BEGIN:VCALENDAR
VERSION:2.0
PRODID:-//동우문화재단 - ECPv5.8.1//NONSGML v1.0//EN
CALSCALE:GREGORIAN
METHOD:PUBLISH
X-WR-CALNAME:동우문화재단
X-ORIGINAL-URL:http://dongwoocf.or.kr
X-WR-CALDESC:Events for 동우문화재단
BEGIN:VTIMEZONE
TZID:Asia/Seoul
BEGIN:STANDARD
TZOFFSETFROM:+0900
TZOFFSETTO:+0900
TZNAME:KST
DTSTART:20200101T000000
END:STANDARD
END:VTIMEZONE
BEGIN:VEVENT
DTSTART;VALUE=DATE:20200407
DTEND;VALUE=DATE:20200413
DTSTAMP:20260425T090134
CREATED:20200316T231206Z
LAST-MODIFIED:20200317T003636Z
UID:2717-1586217600-1586735999@dongwoocf.or.kr
SUMMARY:정지아 화가전(전시실) / 일정변경예정
DESCRIPTION:2020.04.07 ~ 04.12 / ALL / 전시실 일정 변경 예정
URL:http://dongwoocf.or.kr/event/%ec%a0%95%ec%a7%80%ec%95%84-%ed%99%94%ea%b0%80%ec%a0%84%ec%a0%84%ec%8b%9c%ec%8b%a4-%ec%9d%bc%ec%a0%95%eb%b3%80%ea%b2%bd%ec%98%88%ec%a0%95/
END:VEVENT
END:VCALENDAR