BEGIN:VCALENDAR
VERSION:2.0
PRODID:-//동우문화재단 - ECPv5.8.1//NONSGML v1.0//EN
CALSCALE:GREGORIAN
METHOD:PUBLISH
X-WR-CALNAME:동우문화재단
X-ORIGINAL-URL:http://dongwoocf.or.kr
X-WR-CALDESC:Events for 동우문화재단
BEGIN:VTIMEZONE
TZID:Asia/Seoul
BEGIN:STANDARD
TZOFFSETFROM:+0900
TZOFFSETTO:+0900
TZNAME:KST
DTSTART:20200101T000000
END:STANDARD
END:VTIMEZONE
BEGIN:VEVENT
DTSTART;VALUE=DATE:20200226
DTEND;VALUE=DATE:20200227
DTSTAMP:20260425T113112
CREATED:20200316T225605Z
LAST-MODIFIED:20200316T225639Z
UID:2710-1582675200-1582761599@dongwoocf.or.kr
SUMMARY:재즈 피아니스트 임인건 새 앨범 녹음
DESCRIPTION:2020.02.26 / PM 07:00 / 아트홀 무관중 녹음
URL:http://dongwoocf.or.kr/event/%ec%9e%ac%ec%a6%88-%ed%94%bc%ec%95%84%eb%8b%88%ec%8a%a4%ed%8a%b8-%ec%9e%84%ec%9d%b8%ea%b1%b4-%ec%83%88-%ec%95%a8%eb%b2%94-%eb%85%b9%ec%9d%8c/
END:VEVENT
END:VCALENDAR