BEGIN:VCALENDAR
VERSION:2.0
PRODID:-//동우문화재단 - ECPv5.8.1//NONSGML v1.0//EN
CALSCALE:GREGORIAN
METHOD:PUBLISH
X-WR-CALNAME:동우문화재단
X-ORIGINAL-URL:http://dongwoocf.or.kr
X-WR-CALDESC:Events for 동우문화재단
BEGIN:VTIMEZONE
TZID:Asia/Seoul
BEGIN:STANDARD
TZOFFSETFROM:+0900
TZOFFSETTO:+0900
TZNAME:KST
DTSTART:20190101T000000
END:STANDARD
END:VTIMEZONE
BEGIN:VEVENT
DTSTART;TZID=Asia/Seoul:20190725T002000
DTEND;TZID=Asia/Seoul:20190725T125000
DTSTAMP:20260425T192736
CREATED:20190711T064333Z
LAST-MODIFIED:20190711T064400Z
UID:2154-1564014000-1564059000@dongwoocf.or.kr
SUMMARY:마티네 콘서트-동우아트홀
DESCRIPTION:후원기업 대상으로 자체적인 문화가 있는 날(*바쁜 일상 속에서 잃어버린 감성을 충전할 수 있는 특별한 기회)
URL:http://dongwoocf.or.kr/event/%eb%a7%88%ed%8b%b0%eb%84%a4-%ec%bd%98%ec%84%9c%ed%8a%b8-%eb%8f%99%ec%9a%b0%ec%95%84%ed%8a%b8%ed%99%80-4/
END:VEVENT
END:VCALENDAR