BEGIN:VCALENDAR
VERSION:2.0
PRODID:-//동우문화재단 - ECPv5.8.1//NONSGML v1.0//EN
CALSCALE:GREGORIAN
METHOD:PUBLISH
X-WR-CALNAME:동우문화재단
X-ORIGINAL-URL:http://dongwoocf.or.kr
X-WR-CALDESC:Events for 동우문화재단
BEGIN:VTIMEZONE
TZID:Asia/Seoul
BEGIN:STANDARD
TZOFFSETFROM:+0900
TZOFFSETTO:+0900
TZNAME:KST
DTSTART:20190101T000000
END:STANDARD
END:VTIMEZONE
BEGIN:VEVENT
DTSTART;TZID=Asia/Seoul:20190720T150000
DTEND;TZID=Asia/Seoul:20190720T170000
DTSTAMP:20260425T192625
CREATED:20190711T064220Z
LAST-MODIFIED:20190711T064246Z
UID:2151-1563634800-1563642000@dongwoocf.or.kr
SUMMARY:은파 청소년 음악회-동우아트홀
DESCRIPTION:작곡가 김정녀 위촉-은파 청소년 음악회제1회 근대역사동시창작대회 창작곡 초연
URL:http://dongwoocf.or.kr/event/%ec%9d%80%ed%8c%8c-%ec%b2%ad%ec%86%8c%eb%85%84-%ec%9d%8c%ec%95%85%ed%9a%8c-%eb%8f%99%ec%9a%b0%ec%95%84%ed%8a%b8%ed%99%80/
END:VEVENT
END:VCALENDAR