BEGIN:VCALENDAR
VERSION:2.0
PRODID:-//동우문화재단 - ECPv5.8.1//NONSGML v1.0//EN
CALSCALE:GREGORIAN
METHOD:PUBLISH
X-WR-CALNAME:동우문화재단
X-ORIGINAL-URL:http://dongwoocf.or.kr
X-WR-CALDESC:Events for 동우문화재단
BEGIN:VTIMEZONE
TZID:Asia/Seoul
BEGIN:STANDARD
TZOFFSETFROM:+0900
TZOFFSETTO:+0900
TZNAME:KST
DTSTART:20190101T000000
END:STANDARD
END:VTIMEZONE
BEGIN:VEVENT
DTSTART;TZID=Asia/Seoul:20190706T100000
DTEND;TZID=Asia/Seoul:20190706T170000
DTSTAMP:20260425T192625
CREATED:20190711T045813Z
LAST-MODIFIED:20190711T053247Z
UID:2125-1562407200-1562432400@dongwoocf.or.kr
SUMMARY:연습실2-은파어린이합창단
DESCRIPTION:연습실2 대관-은파어린이합창단
URL:http://dongwoocf.or.kr/event/2125/
END:VEVENT
END:VCALENDAR