BEGIN:VCALENDAR
VERSION:2.0
PRODID:-//동우문화재단 - ECPv5.8.1//NONSGML v1.0//EN
CALSCALE:GREGORIAN
METHOD:PUBLISH
X-WR-CALNAME:동우문화재단
X-ORIGINAL-URL:http://dongwoocf.or.kr
X-WR-CALDESC:Events for 동우문화재단
BEGIN:VTIMEZONE
TZID:Asia/Seoul
BEGIN:STANDARD
TZOFFSETFROM:+0900
TZOFFSETTO:+0900
TZNAME:KST
DTSTART:20230101T000000
END:STANDARD
END:VTIMEZONE
BEGIN:VEVENT
DTSTART;VALUE=DATE:20231218
DTEND;VALUE=DATE:20231221
DTSTAMP:20260420T194413
CREATED:20231031T022611Z
LAST-MODIFIED:20231031T022611Z
UID:3477-1702857600-1703116799@dongwoocf.or.kr
SUMMARY:MUSIC FESTIVAL
DESCRIPTION:
URL:http://dongwoocf.or.kr/event/music-festival/
END:VEVENT
END:VCALENDAR