BEGIN:VCALENDAR
VERSION:2.0
PRODID:-//동우문화재단 - ECPv5.8.1//NONSGML v1.0//EN
CALSCALE:GREGORIAN
METHOD:PUBLISH
X-WR-CALNAME:동우문화재단
X-ORIGINAL-URL:http://dongwoocf.or.kr
X-WR-CALDESC:Events for 동우문화재단
BEGIN:VTIMEZONE
TZID:Asia/Seoul
BEGIN:STANDARD
TZOFFSETFROM:+0900
TZOFFSETTO:+0900
TZNAME:KST
DTSTART:20210101T000000
END:STANDARD
END:VTIMEZONE
BEGIN:VEVENT
DTSTART;TZID=Asia/Seoul:20211126T193000
DTEND;TZID=Asia/Seoul:20211126T210000
DTSTAMP:20260424T093506
CREATED:20211111T062805Z
LAST-MODIFIED:20211111T062817Z
UID:3088-1637955000-1637960400@dongwoocf.or.kr
SUMMARY:K 심포니오케스트라 라온 콘서트 II (아트홀)
DESCRIPTION:K 심포니오케스트라 라온 콘서트 II
URL:http://dongwoocf.or.kr/event/k-%ec%8b%ac%ed%8f%ac%eb%8b%88%ec%98%a4%ec%bc%80%ec%8a%a4%ed%8a%b8%eb%9d%bc-%eb%9d%bc%ec%98%a8-%ec%bd%98%ec%84%9c%ed%8a%b8-ii/
END:VEVENT
END:VCALENDAR