BEGIN:VCALENDAR
VERSION:2.0
PRODID:-//동우문화재단 - ECPv5.8.1//NONSGML v1.0//EN
CALSCALE:GREGORIAN
METHOD:PUBLISH
X-WR-CALNAME:동우문화재단
X-ORIGINAL-URL:http://dongwoocf.or.kr
X-WR-CALDESC:Events for 동우문화재단
BEGIN:VTIMEZONE
TZID:Asia/Seoul
BEGIN:STANDARD
TZOFFSETFROM:+0900
TZOFFSETTO:+0900
TZNAME:KST
DTSTART:20230101T000000
END:STANDARD
END:VTIMEZONE
BEGIN:VEVENT
DTSTART;VALUE=DATE:20231023
DTEND;VALUE=DATE:20231024
DTSTAMP:20260422T010623
CREATED:20230911T060154Z
LAST-MODIFIED:20230911T060154Z
UID:3404-1698019200-1698105599@dongwoocf.or.kr
SUMMARY:FLUTE\, 10년의 선로 (아트홀)
DESCRIPTION:FLUTE\, 10년의 선로 (아트홀)
URL:http://dongwoocf.or.kr/event/flute-10%eb%85%84%ec%9d%98-%ec%84%a0%eb%a1%9c-%ec%95%84%ed%8a%b8%ed%99%80/
END:VEVENT
END:VCALENDAR