BEGIN:VCALENDAR
VERSION:2.0
PRODID:-//동우문화재단 - ECPv5.8.1//NONSGML v1.0//EN
CALSCALE:GREGORIAN
METHOD:PUBLISH
X-WR-CALNAME:동우문화재단
X-ORIGINAL-URL:http://dongwoocf.or.kr
X-WR-CALDESC:Events for 동우문화재단
BEGIN:VTIMEZONE
TZID:Asia/Seoul
BEGIN:STANDARD
TZOFFSETFROM:+0900
TZOFFSETTO:+0900
TZNAME:KST
DTSTART:20200101T000000
END:STANDARD
END:VTIMEZONE
BEGIN:VEVENT
DTSTART;TZID=Asia/Seoul:20201024T170000
DTEND;TZID=Asia/Seoul:20201024T190000
DTSTAMP:20260425T012640
CREATED:20200702T224612Z
LAST-MODIFIED:20200804T031318Z
UID:2819-1603558800-1603566000@dongwoocf.or.kr
SUMMARY:Airene 피아노 트리오 (아트홀)
DESCRIPTION:Airene 피아노 트리오 \n2020.10.24 / PM 05:00 / 아트홀
URL:http://dongwoocf.or.kr/event/airene-%ed%94%bc%ec%95%84%eb%85%b8-%ed%8a%b8%eb%a6%ac%ec%98%a4-%ec%95%84%ed%8a%b8%ed%99%80/
END:VEVENT
END:VCALENDAR