BEGIN:VCALENDAR
VERSION:2.0
PRODID:-//동우문화재단 - ECPv5.8.1//NONSGML v1.0//EN
CALSCALE:GREGORIAN
METHOD:PUBLISH
X-WR-CALNAME:동우문화재단
X-ORIGINAL-URL:http://dongwoocf.or.kr
X-WR-CALDESC:Events for 동우문화재단
BEGIN:VTIMEZONE
TZID:Asia/Seoul
BEGIN:STANDARD
TZOFFSETFROM:+0900
TZOFFSETTO:+0900
TZNAME:KST
DTSTART:20230101T000000
END:STANDARD
END:VTIMEZONE
BEGIN:VEVENT
DTSTART;VALUE=DATE:20231222
DTEND;VALUE=DATE:20231223
DTSTAMP:20260420T165449
CREATED:20231212T073319Z
LAST-MODIFIED:20231212T073324Z
UID:3528-1703203200-1703289599@dongwoocf.or.kr
SUMMARY:2023 송년음악회
DESCRIPTION:
URL:http://dongwoocf.or.kr/event/2023-%ec%86%a1%eb%85%84%ec%9d%8c%ec%95%85%ed%9a%8c/
END:VEVENT
END:VCALENDAR