BEGIN:VCALENDAR
VERSION:2.0
PRODID:-//동우문화재단 - ECPv5.8.1//NONSGML v1.0//EN
CALSCALE:GREGORIAN
METHOD:PUBLISH
X-WR-CALNAME:동우문화재단
X-ORIGINAL-URL:http://dongwoocf.or.kr
X-WR-CALDESC:Events for 동우문화재단
BEGIN:VTIMEZONE
TZID:Asia/Seoul
BEGIN:STANDARD
TZOFFSETFROM:+0900
TZOFFSETTO:+0900
TZNAME:KST
DTSTART:20230101T000000
END:STANDARD
END:VTIMEZONE
BEGIN:VEVENT
DTSTART;VALUE=DATE:20231118
DTEND;VALUE=DATE:20231119
DTSTAMP:20260421T110416
CREATED:20230911T060936Z
LAST-MODIFIED:20230911T060936Z
UID:3418-1700265600-1700351999@dongwoocf.or.kr
SUMMARY:히엘합창단 정기연주회 (아트홀)
DESCRIPTION:히엘합창단 정기연주회 (아트홀)
URL:http://dongwoocf.or.kr/event/%ed%9e%88%ec%97%98%ed%95%a9%ec%b0%bd%eb%8b%a8-%ec%a0%95%ea%b8%b0%ec%97%b0%ec%a3%bc%ed%9a%8c-%ec%95%84%ed%8a%b8%ed%99%80/
END:VEVENT
END:VCALENDAR