BEGIN:VCALENDAR
VERSION:2.0
PRODID:-//동우문화재단 - ECPv5.8.1//NONSGML v1.0//EN
CALSCALE:GREGORIAN
METHOD:PUBLISH
X-WR-CALNAME:동우문화재단
X-ORIGINAL-URL:http://dongwoocf.or.kr
X-WR-CALDESC:Events for 동우문화재단
BEGIN:VTIMEZONE
TZID:Asia/Seoul
BEGIN:STANDARD
TZOFFSETFROM:+0900
TZOFFSETTO:+0900
TZNAME:KST
DTSTART:20200101T000000
END:STANDARD
END:VTIMEZONE
BEGIN:VEVENT
DTSTART;TZID=Asia/Seoul:20200312T190000
DTEND;TZID=Asia/Seoul:20200312T203000
DTSTAMP:20260425T101854
CREATED:20200316T225955Z
LAST-MODIFIED:20200316T233506Z
UID:2713-1584039600-1584045000@dongwoocf.or.kr
SUMMARY:한국유리 비전선포식 (코로나19로 인한 취소)
DESCRIPTION:2020.03.12 / PM 07:00 / 아트홀  \n(코로나 19로 인한 취소) \n한국유리 비전선포식 (코로나19로 인한 취소)
URL:http://dongwoocf.or.kr/event/%ed%95%9c%ea%b5%ad%ec%9c%a0%eb%a6%ac-%eb%b9%84%ec%a0%84%ec%84%a0%ed%8f%ac%ec%8b%9d-%ec%bd%94%eb%a1%9c%eb%82%9819%eb%a1%9c-%ec%9d%b8%ed%95%9c%ec%b7%a8%ec%86%8c/
END:VEVENT
END:VCALENDAR