BEGIN:VCALENDAR
VERSION:2.0
PRODID:-//동우문화재단 - ECPv5.8.1//NONSGML v1.0//EN
CALSCALE:GREGORIAN
METHOD:PUBLISH
X-WR-CALNAME:동우문화재단
X-ORIGINAL-URL:http://dongwoocf.or.kr
X-WR-CALDESC:Events for 동우문화재단
BEGIN:VTIMEZONE
TZID:Asia/Seoul
BEGIN:STANDARD
TZOFFSETFROM:+0900
TZOFFSETTO:+0900
TZNAME:KST
DTSTART:20230101T000000
END:STANDARD
END:VTIMEZONE
BEGIN:VEVENT
DTSTART;VALUE=DATE:20231125
DTEND;VALUE=DATE:20231126
DTSTAMP:20260421T081021
CREATED:20231019T031827Z
LAST-MODIFIED:20231019T031827Z
UID:3474-1700870400-1700956799@dongwoocf.or.kr
SUMMARY:토크콘서트
DESCRIPTION:
URL:http://dongwoocf.or.kr/event/%ed%86%a0%ed%81%ac%ec%bd%98%ec%84%9c%ed%8a%b8/
END:VEVENT
END:VCALENDAR