BEGIN:VCALENDAR
VERSION:2.0
PRODID:-//동우문화재단 - ECPv5.8.1//NONSGML v1.0//EN
CALSCALE:GREGORIAN
METHOD:PUBLISH
X-WR-CALNAME:동우문화재단
X-ORIGINAL-URL:http://dongwoocf.or.kr
X-WR-CALDESC:Events for 동우문화재단
BEGIN:VTIMEZONE
TZID:Asia/Seoul
BEGIN:STANDARD
TZOFFSETFROM:+0900
TZOFFSETTO:+0900
TZNAME:KST
DTSTART:20180101T000000
END:STANDARD
END:VTIMEZONE
BEGIN:VEVENT
DTSTART;VALUE=DATE:20181224
DTEND;VALUE=DATE:20181225
DTSTAMP:20260426T002850
CREATED:20181224T013508Z
LAST-MODIFIED:20181224T013521Z
UID:719-1545609600-1545695999@dongwoocf.or.kr
SUMMARY:크리스마스 이브
DESCRIPTION:크리스마스 이브
URL:http://dongwoocf.or.kr/event/%ed%81%ac%eb%a6%ac%ec%8a%a4%eb%a7%88%ec%8a%a4-%ec%9d%b4%eb%b8%8c/
END:VEVENT
END:VCALENDAR