BEGIN:VCALENDAR
VERSION:2.0
PRODID:-//동우문화재단 - ECPv5.8.1//NONSGML v1.0//EN
CALSCALE:GREGORIAN
METHOD:PUBLISH
X-WR-CALNAME:동우문화재단
X-ORIGINAL-URL:http://dongwoocf.or.kr
X-WR-CALDESC:Events for 동우문화재단
BEGIN:VTIMEZONE
TZID:Asia/Seoul
BEGIN:STANDARD
TZOFFSETFROM:+0900
TZOFFSETTO:+0900
TZNAME:KST
DTSTART:20220101T000000
END:STANDARD
END:VTIMEZONE
BEGIN:VEVENT
DTSTART;VALUE=DATE:20220916
DTEND;VALUE=DATE:20220917
DTSTAMP:20260423T195247
CREATED:20220829T030231Z
LAST-MODIFIED:20220829T030257Z
UID:3218-1663286400-1663372799@dongwoocf.or.kr
SUMMARY:청년의 날 행사(아트홀)
DESCRIPTION:청년의 날 행사(아트홀)
URL:http://dongwoocf.or.kr/event/%ec%b2%ad%eb%85%84%ec%9d%98%eb%82%a0-%ed%96%89%ec%82%ac%ec%95%84%ed%8a%b8%ed%99%80/
END:VEVENT
END:VCALENDAR