BEGIN:VCALENDAR
VERSION:2.0
PRODID:-//동우문화재단 - ECPv5.8.1//NONSGML v1.0//EN
CALSCALE:GREGORIAN
METHOD:PUBLISH
X-WR-CALNAME:동우문화재단
X-ORIGINAL-URL:http://dongwoocf.or.kr
X-WR-CALDESC:Events for 동우문화재단
BEGIN:VTIMEZONE
TZID:Asia/Seoul
BEGIN:STANDARD
TZOFFSETFROM:+0900
TZOFFSETTO:+0900
TZNAME:KST
DTSTART:20200101T000000
END:STANDARD
END:VTIMEZONE
BEGIN:VEVENT
DTSTART;TZID=Asia/Seoul:20200908T193000
DTEND;TZID=Asia/Seoul:20200908T213000
DTSTAMP:20260425T024337
CREATED:20200804T030533Z
LAST-MODIFIED:20200819T070139Z
UID:2837-1599593400-1599600600@dongwoocf.or.kr
SUMMARY:창작 오페라 캐시미어 (아트홀)
DESCRIPTION:창작 오페라 캐시미어 \n2020.09.08 / PM 07:30 / 아트홀
URL:http://dongwoocf.or.kr/event/%ec%b0%bd%ec%9e%91%ec%98%a4%ed%8e%98%eb%9d%bc-%eb%a6%ac%eb%94%a9-%ec%95%84%ed%8a%b8%ed%99%80/
END:VEVENT
END:VCALENDAR