BEGIN:VCALENDAR
VERSION:2.0
PRODID:-//동우문화재단 - ECPv5.8.1//NONSGML v1.0//EN
CALSCALE:GREGORIAN
METHOD:PUBLISH
X-WR-CALNAME:동우문화재단
X-ORIGINAL-URL:http://dongwoocf.or.kr
X-WR-CALDESC:Events for 동우문화재단
BEGIN:VTIMEZONE
TZID:Asia/Seoul
BEGIN:STANDARD
TZOFFSETFROM:+0900
TZOFFSETTO:+0900
TZNAME:KST
DTSTART:20230101T000000
END:STANDARD
END:VTIMEZONE
BEGIN:VEVENT
DTSTART;VALUE=DATE:20230725
DTEND;VALUE=DATE:20230729
DTSTAMP:20260422T084725
CREATED:20230403T021904Z
LAST-MODIFIED:20230403T021904Z
UID:3362-1690243200-1690588799@dongwoocf.or.kr
SUMMARY:정기정검 (아트홀)
DESCRIPTION:정기정검 (아트홀)
URL:http://dongwoocf.or.kr/event/%ec%a0%95%ea%b8%b0%ec%a0%95%ea%b2%80-%ec%95%84%ed%8a%b8%ed%99%80/
END:VEVENT
END:VCALENDAR