BEGIN:VCALENDAR
VERSION:2.0
PRODID:-//동우문화재단 - ECPv5.8.1//NONSGML v1.0//EN
CALSCALE:GREGORIAN
METHOD:PUBLISH
X-WR-CALNAME:동우문화재단
X-ORIGINAL-URL:http://dongwoocf.or.kr
X-WR-CALDESC:Events for 동우문화재단
BEGIN:VTIMEZONE
TZID:Asia/Seoul
BEGIN:STANDARD
TZOFFSETFROM:+0900
TZOFFSETTO:+0900
TZNAME:KST
DTSTART:20230101T000000
END:STANDARD
END:VTIMEZONE
BEGIN:VEVENT
DTSTART;VALUE=DATE:20230601
DTEND;VALUE=DATE:20230602
DTSTAMP:20260422T165703
CREATED:20230403T021657Z
LAST-MODIFIED:20230525T075155Z
UID:3352-1685577600-1685663999@dongwoocf.or.kr
SUMMARY:전주대음악과 교수연주회 (아트홀)
DESCRIPTION:전주대음악과 교수연주회 (아트홀)
URL:http://dongwoocf.or.kr/event/%ec%a0%84%ec%a3%bc%eb%8c%80%ec%9d%8c%ec%95%85%ea%b3%bc-%ea%b5%90%ec%88%98%ec%97%b0%ec%a3%bc%ed%9a%8c-%ec%95%84%ed%8a%b8%ed%99%80/
END:VEVENT
END:VCALENDAR