BEGIN:VCALENDAR
VERSION:2.0
PRODID:-//동우문화재단 - ECPv5.8.1//NONSGML v1.0//EN
CALSCALE:GREGORIAN
METHOD:PUBLISH
X-WR-CALNAME:동우문화재단
X-ORIGINAL-URL:http://dongwoocf.or.kr
X-WR-CALDESC:Events for 동우문화재단
BEGIN:VTIMEZONE
TZID:Asia/Seoul
BEGIN:STANDARD
TZOFFSETFROM:+0900
TZOFFSETTO:+0900
TZNAME:KST
DTSTART:20220101T000000
END:STANDARD
END:VTIMEZONE
BEGIN:VEVENT
DTSTART;VALUE=DATE:20221101
DTEND;VALUE=DATE:20221102
DTSTAMP:20260423T171203
CREATED:20220829T030621Z
LAST-MODIFIED:20221013T032234Z
UID:3230-1667260800-1667347199@dongwoocf.or.kr
SUMMARY:장상영 리사이틀 (아트홀)
DESCRIPTION:장상영 리사이틀 (아트홀)
URL:http://dongwoocf.or.kr/event/%ec%9e%a5%ec%83%81%ec%98%81-%eb%a6%ac%ec%82%ac%ec%9d%b4%ed%8b%80-%ec%95%84%ed%8a%b8%ed%99%80/
END:VEVENT
END:VCALENDAR