BEGIN:VCALENDAR
VERSION:2.0
PRODID:-//동우문화재단 - ECPv5.8.1//NONSGML v1.0//EN
CALSCALE:GREGORIAN
METHOD:PUBLISH
X-WR-CALNAME:동우문화재단
X-ORIGINAL-URL:http://dongwoocf.or.kr
X-WR-CALDESC:Events for 동우문화재단
BEGIN:VTIMEZONE
TZID:Asia/Seoul
BEGIN:STANDARD
TZOFFSETFROM:+0900
TZOFFSETTO:+0900
TZNAME:KST
DTSTART:20200101T000000
END:STANDARD
END:VTIMEZONE
BEGIN:VEVENT
DTSTART;TZID=Asia/Seoul:20200902T193000
DTEND;TZID=Asia/Seoul:20200902T210000
DTSTAMP:20260425T024334
CREATED:20200428T095501Z
LAST-MODIFIED:20200819T070425Z
UID:2754-1599075000-1599080400@dongwoocf.or.kr
SUMMARY:이현주 플루트 독주회(아트홀)
DESCRIPTION:이현주 플루트 독주회 \n2020.09.02 / PM 07:30 / 아트홀 \n 
URL:http://dongwoocf.or.kr/event/%ec%9d%b4%ed%98%84%ec%a3%bc-%ed%94%8c%eb%a3%a8%ed%8a%b8-%eb%8f%85%ec%a3%bc%ed%9a%8c/
ATTACH;FMTTYPE=image/jpeg:http://dongwoocf.or.kr/wp-content/uploads/2020/04/KakaoTalk_20200819_121858312.jpg
END:VEVENT
END:VCALENDAR