BEGIN:VCALENDAR
VERSION:2.0
PRODID:-//동우문화재단 - ECPv5.8.1//NONSGML v1.0//EN
CALSCALE:GREGORIAN
METHOD:PUBLISH
X-WR-CALNAME:동우문화재단
X-ORIGINAL-URL:http://dongwoocf.or.kr
X-WR-CALDESC:Events for 동우문화재단
BEGIN:VTIMEZONE
TZID:Asia/Seoul
BEGIN:STANDARD
TZOFFSETFROM:+0900
TZOFFSETTO:+0900
TZNAME:KST
DTSTART:20200101T000000
END:STANDARD
END:VTIMEZONE
BEGIN:VEVENT
DTSTART;TZID=Asia/Seoul:20201124T193000
DTEND;TZID=Asia/Seoul:20201124T213000
DTSTAMP:20260425T001959
CREATED:20200804T031911Z
LAST-MODIFIED:20200804T031911Z
UID:2863-1606246200-1606253400@dongwoocf.or.kr
SUMMARY:이재식교수 제자연주회 (아트홀)
DESCRIPTION:이재식교수 제자연주회 \n2020.11.24 / PM 07:30 / 아트홀
URL:http://dongwoocf.or.kr/event/%ec%9d%b4%ec%9e%ac%ec%8b%9d%ea%b5%90%ec%88%98-%ec%a0%9c%ec%9e%90%ec%97%b0%ec%a3%bc%ed%9a%8c-%ec%95%84%ed%8a%b8%ed%99%80/
END:VEVENT
END:VCALENDAR