BEGIN:VCALENDAR
VERSION:2.0
PRODID:-//동우문화재단 - ECPv5.8.1//NONSGML v1.0//EN
CALSCALE:GREGORIAN
METHOD:PUBLISH
X-WR-CALNAME:동우문화재단
X-ORIGINAL-URL:http://dongwoocf.or.kr
X-WR-CALDESC:Events for 동우문화재단
BEGIN:VTIMEZONE
TZID:Asia/Seoul
BEGIN:STANDARD
TZOFFSETFROM:+0900
TZOFFSETTO:+0900
TZNAME:KST
DTSTART:20230101T000000
END:STANDARD
END:VTIMEZONE
BEGIN:VEVENT
DTSTART;VALUE=DATE:20230926
DTEND;VALUE=DATE:20230927
DTSTAMP:20260422T040543
CREATED:20230911T055347Z
LAST-MODIFIED:20230920T063857Z
UID:3396-1695686400-1695772799@dongwoocf.or.kr
SUMMARY:KSNU 성악앙상블 갈라콘서트 (아트홀)
DESCRIPTION:KSNU 성악앙상블 갈라콘서트 (아트홀)
URL:http://dongwoocf.or.kr/event/%ec%9d%b4%ec%9e%ac%ec%8b%9d%ea%b5%90%ec%88%98-%ec%a0%9c%ec%9e%90%ec%97%b0%ec%a3%bc%ed%9a%8c-%ec%95%84%ed%8a%b8%ed%99%80-3/
END:VEVENT
END:VCALENDAR