BEGIN:VCALENDAR
VERSION:2.0
PRODID:-//동우문화재단 - ECPv5.8.1//NONSGML v1.0//EN
CALSCALE:GREGORIAN
METHOD:PUBLISH
X-WR-CALNAME:동우문화재단
X-ORIGINAL-URL:http://dongwoocf.or.kr
X-WR-CALDESC:Events for 동우문화재단
BEGIN:VTIMEZONE
TZID:Asia/Seoul
BEGIN:STANDARD
TZOFFSETFROM:+0900
TZOFFSETTO:+0900
TZNAME:KST
DTSTART:20200101T000000
END:STANDARD
END:VTIMEZONE
BEGIN:VEVENT
DTSTART;TZID=Asia/Seoul:20201229T190000
DTEND;TZID=Asia/Seoul:20201229T210000
DTSTAMP:20260424T163408
CREATED:20201022T010210Z
LAST-MODIFIED:20201022T010217Z
UID:2928-1609268400-1609275600@dongwoocf.or.kr
SUMMARY:위로와희망 콘서트 (아트홀)
DESCRIPTION:위로와희망 콘서트 \n2020.12.29 / PM 07:00 / 아트홀
URL:http://dongwoocf.or.kr/event/%ec%9c%84%eb%a1%9c%ec%99%80%ed%9d%ac%eb%a7%9d-%ec%bd%98%ec%84%9c%ed%8a%b8-%ec%95%84%ed%8a%b8%ed%99%80/
END:VEVENT
END:VCALENDAR